BEGIN:VCALENDAR
VERSION:2.0
PRODID:-//NPOあったかいよう - ECPv4.4.1.1//NONSGML v1.0//EN
CALSCALE:GREGORIAN
METHOD:PUBLISH
X-WR-CALNAME:NPOあったかいよう
X-ORIGINAL-URL:https://attakaiyo.org
X-WR-CALDESC:Events for NPOあったかいよう
BEGIN:VEVENT
DTSTART;TZID=UTC+0:20170409T100000
DTEND;TZID=UTC+0:20170409T130000
DTSTAMP:20260422T202504
CREATED:20170228T022934Z
LAST-MODIFIED:20170228T023124Z
UID:963-1491732000-1491742800@attakaiyo.org
SUMMARY:桜の下の交流フェスタ
DESCRIPTION:～楽しさまけまけいっぱい～\n海陽ええとこどりフェスタ第二弾！\n今回は、桜のパワースポットとして知る人ぞ知る、海陽町中山の王子神社で開催。\n歌声喫茶、エクササイズ、染めあそび、外遊び、お花見など盛りだくさん！\nお弁当、炊き出し豚汁、お土産もあるよ！\nお友達を誘って、是非参加してね！
URL:https://attakaiyo.org/event/%e6%a1%9c%e3%81%ae%e4%b8%8b%e3%81%ae%e4%ba%a4%e6%b5%81%e3%83%95%e3%82%a7%e3%82%b9%e3%82%bf/
LOCATION:徳島県海部郡海陽町中山
GEO:33.6040338;134.3140864
X-APPLE-STRUCTURED-LOCATION;VALUE=URI;X-ADDRESS=徳島県海部郡海陽町中山;X-APPLE-RADIUS=500;X-TITLE=徳島県海部郡海陽町中山:geo:134.3140864,33.6040338
CATEGORIES:イベント
ATTACH;FMTTYPE=image/jpeg:https://attakaiyo.org/wp-content/uploads/2017/02/image1-1.jpg
END:VEVENT
END:VCALENDAR