BEGIN:VCALENDAR
VERSION:2.0
PRODID:-//NPOあったかいよう - ECPv4.4.1.1//NONSGML v1.0//EN
CALSCALE:GREGORIAN
METHOD:PUBLISH
X-WR-CALNAME:NPOあったかいよう
X-ORIGINAL-URL:https://attakaiyo.org
X-WR-CALDESC:Events for NPOあったかいよう
BEGIN:VEVENT
DTSTART;TZID=UTC+0:20251106T093000
DTEND;TZID=UTC+0:20251106T120000
DTSTAMP:20260423T151609
CREATED:20251017T013331Z
LAST-MODIFIED:20251017T013331Z
UID:2454-1762421400-1762430400@attakaiyo.org
SUMMARY:DMVで行くヤッコソウツアー
DESCRIPTION:11/6木，11/12水\n海部の妙見山のヤッコソウをDMVに乗って見に行くツアー
URL:https://attakaiyo.org/event/dmv%e3%81%a7%e8%a1%8c%e3%81%8f%e3%83%a4%e3%83%83%e3%82%b3%e3%82%bd%e3%82%a6%e3%83%84%e3%82%a2%e3%83%bc/
CATEGORIES:イベント
ATTACH;FMTTYPE=image/jpeg:https://attakaiyo.org/wp-content/uploads/2025/10/ツアー.jpg
END:VEVENT
END:VCALENDAR