BEGIN:VCALENDAR
VERSION:2.0
PRODID:-//NPOあったかいよう - ECPv4.4.1.1//NONSGML v1.0//EN
CALSCALE:GREGORIAN
METHOD:PUBLISH
X-WR-CALNAME:NPOあったかいよう
X-ORIGINAL-URL:https://attakaiyo.org
X-WR-CALDESC:Events for NPOあったかいよう
BEGIN:VEVENT
DTSTART;TZID=UTC+0:20251109T083000
DTEND;TZID=UTC+0:20251109T140000
DTSTAMP:20260423T170051
CREATED:20251017T013604Z
LAST-MODIFIED:20251017T013606Z
UID:2457-1762677000-1762696800@attakaiyo.org
SUMMARY:鈴が峰トレッキングとヤッコソウツアー
DESCRIPTION:11/9日\n鈴が峰のヤッコソウを見に行くツアー
URL:https://attakaiyo.org/event/%e9%88%b4%e3%81%8c%e5%b3%b0%e3%83%88%e3%83%ac%e3%83%83%e3%82%ad%e3%83%b3%e3%82%b0%e3%81%a8%e3%83%a4%e3%83%83%e3%82%b3%e3%82%bd%e3%82%a6%e3%83%84%e3%82%a2%e3%83%bc/
LOCATION:海陽町宍喰久保字松本
GEO:33.567227;134.301713
X-APPLE-STRUCTURED-LOCATION;VALUE=URI;X-ADDRESS=海陽町宍喰久保字松本;X-APPLE-RADIUS=500;X-TITLE=海陽町宍喰久保字松本:geo:134.301713,33.567227
CATEGORIES:イベント
ATTACH;FMTTYPE=image/jpeg:https://attakaiyo.org/wp-content/uploads/2025/10/ツアー-2.jpg
END:VEVENT
END:VCALENDAR